BEGIN:VCALENDAR
VERSION:2.0
PRODID:-//JH Adams Inn - ECPv6.15.20//NONSGML v1.0//EN
CALSCALE:GREGORIAN
METHOD:PUBLISH
X-WR-CALNAME:JH Adams Inn
X-ORIGINAL-URL:https://jhadamsinn.com
X-WR-CALDESC:Events for JH Adams Inn
REFRESH-INTERVAL;VALUE=DURATION:PT1H
X-Robots-Tag:noindex
X-PUBLISHED-TTL:PT1H
BEGIN:VTIMEZONE
TZID:UTC
BEGIN:STANDARD
TZOFFSETFROM:+0000
TZOFFSETTO:+0000
TZNAME:UTC
DTSTART:20210101T000000
END:STANDARD
END:VTIMEZONE
BEGIN:VEVENT
DTSTART;TZID=UTC:20241027T160000
DTEND;TZID=UTC:20241027T190000
DTSTAMP:20260422T103806
CREATED:20240807T181650Z
LAST-MODIFIED:20240807T181650Z
UID:3138-1730044800-1730055600@jhadamsinn.com
SUMMARY:Artist in Residence — Live Painting
DESCRIPTION:
URL:https://jhadamsinn.com/event/artist-in-residence-live-painting-12/
LOCATION:JH Adams Inn\, 1108 N. Main Street\, High Point\, NC\, 27262\, United States
CATEGORIES:Art at JH Adams Inn
ORGANIZER;CN="JH Adams Inn":MAILTO:info@jhadamsinn.com
END:VEVENT
BEGIN:VEVENT
DTSTART;TZID=UTC:20241026T160000
DTEND;TZID=UTC:20241026T190000
DTSTAMP:20260422T103806
CREATED:20240807T181551Z
LAST-MODIFIED:20240807T181551Z
UID:3137-1729958400-1729969200@jhadamsinn.com
SUMMARY:Artist in Residence — Live Painting
DESCRIPTION:
URL:https://jhadamsinn.com/event/artist-in-residence-live-painting-11/
LOCATION:JH Adams Inn\, 1108 N. Main Street\, High Point\, NC\, 27262\, United States
CATEGORIES:Art at JH Adams Inn
ORGANIZER;CN="JH Adams Inn":MAILTO:info@jhadamsinn.com
END:VEVENT
BEGIN:VEVENT
DTSTART;TZID=UTC:20241025T160000
DTEND;TZID=UTC:20241025T190000
DTSTAMP:20260422T103806
CREATED:20240807T181459Z
LAST-MODIFIED:20240807T181459Z
UID:3136-1729872000-1729882800@jhadamsinn.com
SUMMARY:Artist in Residence — Live Painting
DESCRIPTION:
URL:https://jhadamsinn.com/event/artist-in-residence-live-painting-10/
LOCATION:JH Adams Inn\, 1108 N. Main Street\, High Point\, NC\, 27262\, United States
CATEGORIES:Art at JH Adams Inn
ORGANIZER;CN="JH Adams Inn":MAILTO:info@jhadamsinn.com
END:VEVENT
BEGIN:VEVENT
DTSTART;TZID=UTC:20241024T160000
DTEND;TZID=UTC:20241024T190000
DTSTAMP:20260422T103806
CREATED:20240807T181404Z
LAST-MODIFIED:20240807T181404Z
UID:3135-1729785600-1729796400@jhadamsinn.com
SUMMARY:Artist in Residence — Live Painting
DESCRIPTION:
URL:https://jhadamsinn.com/event/artist-in-residence-live-painting-9/
LOCATION:JH Adams Inn\, 1108 N. Main Street\, High Point\, NC\, 27262\, United States
CATEGORIES:Art at JH Adams Inn
ORGANIZER;CN="JH Adams Inn":MAILTO:info@jhadamsinn.com
END:VEVENT
BEGIN:VEVENT
DTSTART;TZID=UTC:20241017T160000
DTEND;TZID=UTC:20241017T190000
DTSTAMP:20260422T103806
CREATED:20240807T181317Z
LAST-MODIFIED:20240807T181317Z
UID:3134-1729180800-1729191600@jhadamsinn.com
SUMMARY:Artist in Residence — Live Painting
DESCRIPTION:
URL:https://jhadamsinn.com/event/artist-in-residence-live-painting-8/
LOCATION:JH Adams Inn\, 1108 N. Main Street\, High Point\, NC\, 27262\, United States
CATEGORIES:Art at JH Adams Inn
ORGANIZER;CN="JH Adams Inn":MAILTO:info@jhadamsinn.com
END:VEVENT
BEGIN:VEVENT
DTSTART;TZID=UTC:20241010T160000
DTEND;TZID=UTC:20241010T190000
DTSTAMP:20260422T103806
CREATED:20240807T181209Z
LAST-MODIFIED:20240807T181209Z
UID:3133-1728576000-1728586800@jhadamsinn.com
SUMMARY:Artist in Residence — Live Painting
DESCRIPTION:
URL:https://jhadamsinn.com/event/artist-in-residence-live-painting-7/
LOCATION:JH Adams Inn\, 1108 N. Main Street\, High Point\, NC\, 27262\, United States
CATEGORIES:Art at JH Adams Inn
ORGANIZER;CN="JH Adams Inn":MAILTO:info@jhadamsinn.com
END:VEVENT
BEGIN:VEVENT
DTSTART;TZID=UTC:20241003T160000
DTEND;TZID=UTC:20241003T190000
DTSTAMP:20260422T103806
CREATED:20240807T181117Z
LAST-MODIFIED:20240807T181117Z
UID:3132-1727971200-1727982000@jhadamsinn.com
SUMMARY:Artist in Residence — Live Painting
DESCRIPTION:
URL:https://jhadamsinn.com/event/artist-in-residence-live-painting-6/
LOCATION:JH Adams Inn\, 1108 N. Main Street\, High Point\, NC\, 27262\, United States
CATEGORIES:Art at JH Adams Inn
ORGANIZER;CN="JH Adams Inn":MAILTO:info@jhadamsinn.com
END:VEVENT
BEGIN:VEVENT
DTSTART;TZID=UTC:20240926T160000
DTEND;TZID=UTC:20240926T190000
DTSTAMP:20260422T103806
CREATED:20240807T181030Z
LAST-MODIFIED:20240807T181030Z
UID:3131-1727366400-1727377200@jhadamsinn.com
SUMMARY:Artist in Residence — Live Painting
DESCRIPTION:
URL:https://jhadamsinn.com/event/artist-in-residence-live-painting-5/
LOCATION:JH Adams Inn\, 1108 N. Main Street\, High Point\, NC\, 27262\, United States
CATEGORIES:Art at JH Adams Inn
ORGANIZER;CN="JH Adams Inn":MAILTO:info@jhadamsinn.com
END:VEVENT
BEGIN:VEVENT
DTSTART;TZID=UTC:20240919T160000
DTEND;TZID=UTC:20240919T190000
DTSTAMP:20260422T103806
CREATED:20240807T180947Z
LAST-MODIFIED:20240807T180947Z
UID:3130-1726761600-1726772400@jhadamsinn.com
SUMMARY:Artist in Residence — Live Painting
DESCRIPTION:
URL:https://jhadamsinn.com/event/artist-in-residence-live-painting-4/
LOCATION:JH Adams Inn\, 1108 N. Main Street\, High Point\, NC\, 27262\, United States
CATEGORIES:Art at JH Adams Inn
ORGANIZER;CN="JH Adams Inn":MAILTO:info@jhadamsinn.com
END:VEVENT
BEGIN:VEVENT
DTSTART;TZID=UTC:20240912T160000
DTEND;TZID=UTC:20240912T190000
DTSTAMP:20260422T103806
CREATED:20240807T180859Z
LAST-MODIFIED:20240807T180859Z
UID:3129-1726156800-1726167600@jhadamsinn.com
SUMMARY:Artist in Residence — Live Painting
DESCRIPTION:
URL:https://jhadamsinn.com/event/artist-in-residence-live-painting-3/
LOCATION:JH Adams Inn\, 1108 N. Main Street\, High Point\, NC\, 27262\, United States
CATEGORIES:Art at JH Adams Inn
ORGANIZER;CN="JH Adams Inn":MAILTO:info@jhadamsinn.com
END:VEVENT
BEGIN:VEVENT
DTSTART;TZID=UTC:20240905T160000
DTEND;TZID=UTC:20240905T190000
DTSTAMP:20260422T103806
CREATED:20240807T180820Z
LAST-MODIFIED:20240807T180820Z
UID:3128-1725552000-1725562800@jhadamsinn.com
SUMMARY:Artist in Residence — Live Painting
DESCRIPTION:
URL:https://jhadamsinn.com/event/artist-in-residence-live-painting-2/
LOCATION:JH Adams Inn\, 1108 N. Main Street\, High Point\, NC\, 27262\, United States
CATEGORIES:Art at JH Adams Inn
ORGANIZER;CN="JH Adams Inn":MAILTO:info@jhadamsinn.com
END:VEVENT
BEGIN:VEVENT
DTSTART;TZID=UTC:20240829T160000
DTEND;TZID=UTC:20240829T190000
DTSTAMP:20260422T103806
CREATED:20240807T180737Z
LAST-MODIFIED:20240807T180737Z
UID:3127-1724947200-1724958000@jhadamsinn.com
SUMMARY:Artist in Residence — Live Painting
DESCRIPTION:
URL:https://jhadamsinn.com/event/artist-in-residence-live-painting/
LOCATION:JH Adams Inn\, 1108 N. Main Street\, High Point\, NC\, 27262\, United States
CATEGORIES:Art at JH Adams Inn
ORGANIZER;CN="JH Adams Inn":MAILTO:info@jhadamsinn.com
END:VEVENT
BEGIN:VEVENT
DTSTART;TZID=UTC:20240823T180000
DTEND;TZID=UTC:20240823T200000
DTSTAMP:20260422T103806
CREATED:20240807T180621Z
LAST-MODIFIED:20240807T180621Z
UID:3126-1724436000-1724443200@jhadamsinn.com
SUMMARY:Artist Reception
DESCRIPTION:
URL:https://jhadamsinn.com/event/artist-reception/
LOCATION:JH Adams Inn\, 1108 N. Main Street\, High Point\, NC\, 27262\, United States
CATEGORIES:Art at JH Adams Inn
ORGANIZER;CN="JH Adams Inn":MAILTO:info@jhadamsinn.com
END:VEVENT
BEGIN:VEVENT
DTSTART;TZID=UTC:20221030T110000
DTEND;TZID=UTC:20221030T150000
DTSTAMP:20260422T103806
CREATED:20220914T204530Z
LAST-MODIFIED:20220914T205004Z
UID:2320-1667127600-1667142000@jhadamsinn.com
SUMMARY:2nd Annual Adams Family Halloween!
DESCRIPTION:Join us at the JH Adams Inn\, Sunday\, October 30\, 2022\, from 11:00am to 3:00pm for tons of family Halloween fun\, games\, and of course\, candy!\nFirst\, let’s talk candy\, we’ll have a ton. \nNo bag or hand leaves empty when all’s said and done. \nWe’ll have ghoulish games for all ages’ delight \nAnd spooky story times for a friendly fright. \nConjure with crafts for you creative creatures \nOr Hunt the Haunt\, all you mystery seekers. \nWith so many monsters and ghosts on the prowl \nYou’re bound to hear a few hungry growls and howls. \nWe’ll have something to fend off those hunger pangs. \nA bite of lunch\, perhaps\, for claws or for fangs. \nSo pick your poison\, your potion\, your brew. \nA few adult spirits if you’re in it for the boos. \nWhile not required\, a costume would be wise. \nCome as you aren’t to compete for the prize.  \nOf course all you parents can get rewards too\, \nIs a ghostly getaway in store for you? \nSo gather your goblins\, your witches\, ghouls too \nAnd please do come in\, we’re dying to see you.
URL:https://jhadamsinn.com/event/2nd-annual-adams-family-halloween/
LOCATION:JH Adams Inn\, 1108 N. Main Street\, High Point\, NC\, 27262\, United States
CATEGORIES:Halloween
ATTACH;FMTTYPE=image/png:https://jhadamsinn.com/wp-content/uploads/2022/09/Alternate-facebook-cover-adams-family-halloween-2022-1907-×-710-px-1-1.png
ORGANIZER;CN="JH Adams Inn":MAILTO:info@jhadamsinn.com
END:VEVENT
BEGIN:VEVENT
DTSTART;TZID=UTC:20220927T183000
DTEND;TZID=UTC:20220927T213000
DTSTAMP:20260422T103806
CREATED:20220908T192738Z
LAST-MODIFIED:20220908T192840Z
UID:1877-1664303400-1664314200@jhadamsinn.com
SUMMARY:Music Bingo
DESCRIPTION:Please join us on Tuesday\, September 27\, 2022 for Music Bingo at Cristina Gray’s in JH Adams Inn at 6:30 p.m.
URL:https://jhadamsinn.com/event/music-bingo-2/
LOCATION:Cristina Gray’s Restaurant & Bar\, 1108 N. Main Street\, High Point\, NC\, 27262\, United States
CATEGORIES:Music Bingo
END:VEVENT
BEGIN:VEVENT
DTSTART;TZID=UTC:20220913T183000
DTEND;TZID=UTC:20220913T213000
DTSTAMP:20260422T103806
CREATED:20220908T192437Z
LAST-MODIFIED:20220908T192818Z
UID:1874-1663093800-1663104600@jhadamsinn.com
SUMMARY:Music Bingo
DESCRIPTION:Join us for Music Bingo at Cristina Gray’s in JH Adams Inn on Tuesday\, September 13\, 2022 at 6:30 pm in the new Atrium.
URL:https://jhadamsinn.com/event/music-bingo/
LOCATION:Cristina Gray’s Restaurant & Bar\, 1108 N. Main Street\, High Point\, NC\, 27262\, United States
CATEGORIES:Music Bingo
ATTACH;FMTTYPE=image/png:https://jhadamsinn.com/wp-content/uploads/2022/09/JHA-Cristina-Grays-Closed-Post-1.png
END:VEVENT
BEGIN:VEVENT
DTSTART;TZID=UTC:20220416T100000
DTEND;TZID=UTC:20220416T143000
DTSTAMP:20260422T103806
CREATED:20220310T201719Z
LAST-MODIFIED:20220313T202317Z
UID:1462-1650103200-1650119400@jhadamsinn.com
SUMMARY:Easter at the Inn
DESCRIPTION:Join us for Easter fun with the family on Saturday\, April 16 from 10 am to 2 pm. Enjoy games\, crafts\, egg hunts\, scavenger hunts and pictures with the Easter Bunny. Easter egg hunts will take place at 10:30\, 11:30\, 12:30 and 1:30. \nPlease rsvp here to confirm your spot.
URL:https://jhadamsinn.com/event/easter-at-the-inn/
LOCATION:JH Adams Inn\, 1108 N. Main Street\, High Point\, NC\, 27262\, United States
CATEGORIES:Community Events,Easter
ATTACH;FMTTYPE=image/png:https://jhadamsinn.com/wp-content/uploads/2022/03/2-3.png
ORGANIZER;CN="JH Adams Inn":MAILTO:info@jhadamsinn.com
END:VEVENT
BEGIN:VEVENT
DTSTART;VALUE=DATE:20220317
DTEND;VALUE=DATE:20220318
DTSTAMP:20260422T103806
CREATED:20220227T151028Z
LAST-MODIFIED:20220313T203326Z
UID:915-1647475200-1647561599@jhadamsinn.com
SUMMARY:St. Patricks Day
DESCRIPTION:
URL:https://jhadamsinn.com/event/st-patricks-day/
LOCATION:Cristina Gray’s Restaurant & Bar\, 1108 N. Main Street\, High Point\, NC\, 27262\, United States
CATEGORIES:Holiday
END:VEVENT
END:VCALENDAR